BEGIN:VCALENDAR
VERSION:2.0
PRODID:-//MANS
CALSCALE:GREGORIAN
METHOD:PUBLISH
X-WR-CALNAME:MANS
X-ORIGINAL-URL:https://m-a-n-s.org/product/mans-2022-school-law-seminar/
X-WR-CALDESC:MANS 2022 School Law Seminar
BEGIN:VEVENT
DTSTART:20220623T000000
DTEND:20220623T000000
SUMMARY:MANS 2022 School Law Seminar
DESCRIPTION:
LOCATION:Lansing, MI, USA
END:VEVENT
END:VCALENDAR
